BEGIN:VCALENDAR
VERSION:2.0
PRODID:-//Tukios.com/
BEGIN:VEVENT
UID:6d742d69-739b-47d3-b3df-66e4957b507f@www.galbreaithpickard.com
DTSTAMP:20260421T173512Z
DTSTART:20260424T220000Z
DTEND:20260425T000000Z
SUMMARY:Visitation
DESCRIPTION:
URL:https://www.galbreaithpickard.com/obituaries/patricia-kay-patti-nicholson
LOCATION:Galbreaith Pickard Hilltop Chapel 4941 East Interstate 20 
	Service Road South  Willow Park TX 76087
GEO:32.7370616;-97.6427594
END:VEVENT
END:VCALENDAR