BEGIN:VCALENDAR
VERSION:2.0
PRODID:-//Tukios.com/
BEGIN:VEVENT
UID:279795ed-d422-4498-90a4-5b62b9e98e34@www.galbreaithpickard.com
DTSTAMP:20260424T214631Z
DTSTART:20260427T150000Z
DTEND:20260427T160000Z
SUMMARY:Graveside Service
DESCRIPTION:
URL:https://www.galbreaithpickard.com/obituaries/melba-ferguson
LOCATION: 200 Front Street  Weatherford TX 76086
GEO:32.7640859;-97.7953674
END:VEVENT
END:VCALENDAR