BEGIN:VCALENDAR
VERSION:2.0
PRODID:-//Tukios.com/
BEGIN:VEVENT
UID:47db9713-90c6-411a-b17e-15543c0359ce@www.galbreaithpickard.com
DTSTAMP:20260424T214855Z
DTSTART:20260426T230000Z
DTEND:20260427T010000Z
SUMMARY:Visitation
DESCRIPTION:
URL:https://www.galbreaithpickard.com/obituaries/melba-ferguson
LOCATION: 913 N Elm St  Weatherford TX 76086
GEO:32.7694387;-97.7956296
END:VEVENT
END:VCALENDAR