BEGIN:VCALENDAR
VERSION:2.0
PRODID:-//Tukios.com/
BEGIN:VEVENT
UID:68c0e13a-25f1-40fc-abb8-85a4d0768579@www.galbreaithpickard.com
DTSTAMP:20260422T010658Z
DTSTART:20260424T150000Z
DTEND:20260424T160000Z
SUMMARY:Funeral Service
DESCRIPTION:
URL:https://www.galbreaithpickard.com/obituaries/joy-gober
LOCATION: 4941 Interstate 20 Frontage Rd  Willow Park TX 76087
GEO:32.7383895;-97.6422181
END:VEVENT
END:VCALENDAR