BEGIN:VCALENDAR
VERSION:2.0
PRODID:-//Tukios.com/
BEGIN:VEVENT
UID:cfc88e4b-32b9-47ef-9c1d-4e1c247e18dd@www.galbreaithpickard.com
DTSTAMP:20260422T010831Z
DTSTART:20260423T230000Z
DTEND:20260424T010000Z
SUMMARY:Visitation
DESCRIPTION:
URL:https://www.galbreaithpickard.com/obituaries/joy-gober
LOCATION: 4941 Interstate 20 Frontage Rd  Willow Park TX 76087
GEO:32.7383895;-97.6422181
END:VEVENT
END:VCALENDAR