BEGIN:VCALENDAR
VERSION:2.0
PRODID:-//Tukios.com/
BEGIN:VEVENT
UID:7e0f3973-317c-4911-8898-10ec25db4eb4@www.galbreaithpickard.com
DTSTAMP:20260420T191256Z
DTSTART:20260428T190000Z
DTEND:20260428T200000Z
SUMMARY:Memorial Service
DESCRIPTION:
URL:https://www.galbreaithpickard.com/obituaries/jordan-william-bill-ervin
LOCATION: 4941 Interstate 20 Frontage Rd  Willow Park TX 76087
GEO:32.7383895;-97.6422181
END:VEVENT
END:VCALENDAR