BEGIN:VCALENDAR
VERSION:2.0
PRODID:-//Tukios.com/
BEGIN:VEVENT
UID:74af8027-2a73-4f63-994f-3d1263a55ab0@www.galbreaithpickard.com
DTSTAMP:20260424T002517Z
DTSTART:20260508T150000Z
DTEND:20260508T160000Z
SUMMARY:Graveside Service
DESCRIPTION:
URL:https://www.galbreaithpickard.com/obituaries/gregory-fox
LOCATION:Hill Cemetery 3630 Gilbert Pit Road  Lipan TX 76462
GEO:32.6147614;-98.0288567
END:VEVENT
END:VCALENDAR