BEGIN:VCALENDAR
VERSION:2.0
PRODID:-//Tukios.com/
BEGIN:VEVENT
UID:82df774d-9927-4eee-a258-1c59ebf6c5de@www.galbreaithpickard.com
DTSTAMP:20260422T004225Z
DTSTART:20260506T150000Z
DTEND:20260506T160000Z
SUMMARY:Memorial Service
DESCRIPTION:The funeral home is not involved in the service, please 
	deliver flowers to the church.
URL:https://www.galbreaithpickard.com/obituaries/gordon-william-carver
LOCATION: 301 South Main Street  Weatherford TX 76086
GEO:32.7562067;-97.7969886
END:VEVENT
END:VCALENDAR