BEGIN:VCALENDAR
VERSION:2.0
PRODID:-//Tukios.com/
BEGIN:VEVENT
UID:4943c185-b6f2-4750-9d7d-7c3c9e8a5c90@www.galbreaithpickard.com
DTSTAMP:20260422T174414Z
DTSTART:20260425T160000Z
DTEND:20260425T170000Z
SUMMARY:Memorial Service
DESCRIPTION:
URL:https://www.galbreaithpickard.com/obituaries/george-olsen
LOCATION: 913 North Elm Street  Weatherford TX 76086
GEO:32.7694387;-97.7956296
END:VEVENT
END:VCALENDAR