BEGIN:VCALENDAR
VERSION:2.0
PRODID:-//Tukios.com/
BEGIN:VEVENT
UID:ab4e7472-d54e-4f81-8dcc-e33701a65537@www.galbreaithpickard.com
DTSTAMP:20260424T165418Z
DTSTART:20260425
SUMMARY:Burial
DESCRIPTION:
URL:https://www.galbreaithpickard.com/obituaries/donita-mccarrell
LOCATION:Elmhurst Cemetery 424 North Main Street  Guymon OK 73942
GEO:36.6826378;-101.4819241
END:VEVENT
END:VCALENDAR