BEGIN:VCALENDAR
VERSION:2.0
PRODID:-//Tukios.com/
BEGIN:VEVENT
UID:465aa329-1eeb-4506-a0af-4daa8a26a3a8@www.galbreaithpickard.com
DTSTAMP:20260424T165633Z
DTSTART:20260425T190000Z
DTEND:20260425T200000Z
SUMMARY:Funeral Service
DESCRIPTION:Galbreaith Pickard Funeral Chapel is not involved in the 
	service.
URL:https://www.galbreaithpickard.com/obituaries/donita-mccarrell
LOCATION: 523 N Roosevelt St  Guymon OK 73942
GEO:36.68352;-101.4834459
END:VEVENT
END:VCALENDAR